BEGIN:VCALENDAR
VERSION:2.0
CALSCALE:GREGORIAN
METHOD:PUBLISH
PRODID://CTSL//212632
BEGIN:VEVENT
DTSTAMP:20260422T142058
VTIMEZONE:America/Los_Angeles
DTSTART:20260515T230000Z
DTEND:20260516T000000Z
UID:212632
SUMMARY:Creating Materials with Standards and Competencies in Mind (MW-IG)
LOCATION:CATESOL Zoom Room
DESCRIPTION:Creating Materials with Standards and Competencies in Mind (MW-IG)\n\n05/15/26 04:00 PM PST\n - 05/15/26 05:00 PM PST\Description:\nThis webinar will focus on how materials writers balance different standards and competencies in the materials development process. The presenter will share practical approaches that can be applied to both supplementary materials and full textbooks, using concrete examples from published work. The session is intended to support educators who are developing, adapting, or evaluating materials across a range of teaching contexts. The session will be 50 minutes long, with a 10-minute Q&A at the end. We hope to see you on Zoom!\n\nPresenter: Rob Jenkins\nMW-IG Host: Soleil Turell, Coordinator\n\nCost: \nMembers: Free\nNon-members: $5 \n\n \n\Location:\nCATESOL Zoom Room\n\n,
X-ALT-DESC;FMTTYPE=text/html:Creating Materials with Standards and Competencies in Mind (MW-IG)<br /><br />05/15/26 04:00 PM PST - 05/15/26 05:00 PM PST<br />Description:<br /><p>This webinar will focus on how materials writers balance different standards and competencies in the materials development process. The presenter will share practical approaches that can be applied to both supplementary materials and full textbooks, using concrete examples from published work. The session is intended to support educators who are developing, adapting, or evaluating materials across a range of teaching contexts. The session will be 50 minutes long, with a 10-minute Q&amp;A at the end. We hope to see you on Zoom!<br />
<br />
Presenter: Rob Jenkins<br />
MW-IG Host: Soleil Turell, Coordinator<br />
<br />
Cost:&nbsp;<br />
Members: Free<br />
Non-members: $5&nbsp;</p>

<p>&nbsp;</p>
<br />Location:<br />CATESOL Zoom Room<br /><br />,  
PRIORITY:3
TRANSP:TRANSPARENT
BEGIN:VALARM
TRIGGER:-PT5M
ACTION:DISPLAY
DESCRIPTION:Reminder
END:VALARM
END:VEVENT
END:VCALENDAR
