BEGIN:VCALENDAR
VERSION:2.0
CALSCALE:GREGORIAN
METHOD:PUBLISH
PRODID://CTSL//212427
BEGIN:VEVENT
DTSTAMP:20260419T222132
VTIMEZONE:America/Los_Angeles
DTSTART:20260522T190000Z
DTEND:20260522T200000Z
UID:212427
SUMMARY:AI That Actually Saves You Time (IEP) 
LOCATION:
DESCRIPTION:AI That Actually Saves You Time (IEP) \n\n05/22/26 12:00 PM PST\n - 05/22/26 01:00 PM PST\Description:\nAI That Actually Saves You Time (IEP)\n\nPresenter: \nWith over a decade of experience in education and institutional change, Jeffrey Foulkes helps educators navigate AI with clarity and purpose. He is the founder of AIReadyEducation and currently Adjunct ESL Faculty at Glendale Community College.\n\nDescription: \nThis is a hands-on workshop that walks educators through five progressively advanced ways to integrate AI into their work. It starts with "parent prompts" using Claude Projects, ChatGPT Projects/GPTs, or Gemini Gems to give AI persistent context about your teaching role and materials, eliminating repetitive re-explaining. From there, it moves into agentic AI workflows (like having Claude or Manus generate a Google Form for student feedback), using AI to write HTML for a polished Canvas LMS home page, building a research-to-presentation pipeline with NotebookLM feeding into an LLM for lesson planning, and finally "Kahoot-ifying" the classroom by generating quiz questions in NotebookLM and importing them via Kahoot's PDF feature. The overall focus is on understanding what Retrieval Augmented Generation is and how to use it in the classroom.\n\nModerators: \nEdgar Zardaryan\nSean Saly\nCost: \nMember: $0\nNon-member: $5
X-ALT-DESC;FMTTYPE=text/html:AI That Actually Saves You Time (IEP) <br /><br />05/22/26 12:00 PM PST - 05/22/26 01:00 PM PST<br />Description:<br /><h1>AI That Actually Saves You Time (IEP)</h1>

<h2>Presenter:&nbsp;</h2>
With over a decade of experience in education and institutional change, Jeffrey Foulkes helps educators navigate AI with clarity and purpose. He is the founder of AIReadyEducation and currently Adjunct ESL Faculty at Glendale Community College.

<h2>Description:&nbsp;</h2>
This is a hands-on workshop that walks educators through five progressively advanced ways to integrate AI into their work. It starts with &quot;parent prompts&quot; using Claude Projects, ChatGPT Projects/GPTs, or Gemini Gems to give AI persistent context about your teaching role and materials, eliminating repetitive re-explaining. From there, it moves into agentic AI workflows (like having Claude or Manus generate a Google Form for student feedback), using AI to write HTML for a polished Canvas LMS home page, building a research-to-presentation pipeline with NotebookLM feeding into an LLM for lesson planning, and finally &quot;Kahoot-ifying&quot; the classroom by generating quiz questions in NotebookLM and importing them via Kahoot's PDF feature. The overall focus is on understanding what Retrieval Augmented Generation is and how to use it in the classroom.

<h2>Moderators:&nbsp;</h2>
Edgar Zardaryan<br />
Sean Saly
<h2>Cost:&nbsp;</h2>
Member: $0<br />
Non-member: $5
PRIORITY:3
TRANSP:TRANSPARENT
BEGIN:VALARM
TRIGGER:-PT5M
ACTION:DISPLAY
DESCRIPTION:Reminder
END:VALARM
END:VEVENT
END:VCALENDAR
