BEGIN:VCALENDAR
VERSION:2.0
CALSCALE:GREGORIAN
METHOD:PUBLISH
PRODID://CTSL//199621
BEGIN:VEVENT
DTSTAMP:20260421T101307
VTIMEZONE:America/Los_Angeles
DTSTART:20251024T213000Z
DTEND:20251024T223000Z
UID:199621
SUMMARY:The Latest in Immigration Policies and Legal Strategies(RC-IG)
LOCATION:CATESOL Zoom Room
DESCRIPTION:The Latest in Immigration Policies and Legal Strategies(RC-IG)\n\n10/24/25 02:30 PM PST\n - 10/24/25 03:30 PM PST\Description:\n\n\n\n\n\n\n\n\n\n\nAs both an ESL teacher and immigration lawyer, California Attorney Marc Santamaria will share the latest immigration updates, legal strategies, and rights under the current administration, presented in a way that teachers can bring back to their students.\n\nThis session is designed not only to inform, but also to provide legal strategies that students may be able to use given the current political climate.\n\nFree to Members\nNon-members $5\nHosted by Refugee Concerns Interest Group (RC-IG)\n\n#catesolrc\n \Location:\nCATESOL Zoom Room\n\n,
X-ALT-DESC;FMTTYPE=text/html:The Latest in Immigration Policies and Legal Strategies(RC-IG)<br /><br />10/24/25 02:30 PM PST - 10/24/25 03:30 PM PST<br />Description:<br /><h1>
<style type="text/css"><!--td {border: 1px solid #cccccc;}br {mso-data-placement:same-cell;}-->
</style>
<style type="text/css"><!--td {border: 1px solid #cccccc;}br {mso-data-placement:same-cell;}-->
</style>
</h1>

<p>
<style type="text/css"><!--td {border: 1px solid #cccccc;}br {mso-data-placement:same-cell;}-->
</style>
As both an ESL teacher and immigration lawyer, California Attorney Marc Santamaria will share the latest immigration updates, legal strategies, and rights under the current administration, presented in a way that teachers can bring back to their students.<br />
<br />
This session is designed not only to inform, but also to provide legal strategies that students may be able to use given the current political climate.<br />
<br />
Free to Members<br />
Non-members $5</p>
Hosted by Refugee Concerns Interest Group (RC-IG)<br />
<br />
#catesolrc<br />
&nbsp;<br />Location:<br />CATESOL Zoom Room<br /><br />,  
PRIORITY:3
TRANSP:TRANSPARENT
BEGIN:VALARM
TRIGGER:-PT5M
ACTION:DISPLAY
DESCRIPTION:Reminder
END:VALARM
END:VEVENT
END:VCALENDAR
